BEGIN:VCALENDAR
VERSION:2.0
PRODID:-//wp-events-plugin.com//7.2.3.1//EN
TZID:Europe/Berlin
X-WR-TIMEZONE:Europe/Berlin
BEGIN:VEVENT
UID:2@motorradfreunde-roemerberg.de
DTSTART;TZID=Europe/Berlin:20260725T090000
DTEND;TZID=Europe/Berlin:20260725T190000
DTSTAMP:20250729T091701Z
URL:https://www.motorradfreunde-roemerberg.de/events/249/
SUMMARY:Rhein-Pfalz-Treffen 2026
DESCRIPTION:
LOCATION:Klaus Mayer GmbH & CO KG\, Langlachweg 11a\, Mannheim\, 68229\, De
 utschland
X-APPLE-STRUCTURED-LOCATION;VALUE=URI;X-ADDRESS=Langlachweg 11a\, Mannheim\
 , 68229\, Deutschland;X-APPLE-RADIUS=100;X-TITLE=Klaus Mayer GmbH & CO KG:
 geo:0,0
END:VEVENT
BEGIN:VTIMEZONE
TZID:Europe/Berlin
X-LIC-LOCATION:Europe/Berlin
BEGIN:DAYLIGHT
DTSTART:20260329T030000
TZOFFSETFROM:+0100
TZOFFSETTO:+0200
TZNAME:CEST
END:DAYLIGHT
END:VTIMEZONE
END:VCALENDAR